View In:
ArcGIS JavaScript
ArcGIS Online Map Viewer
ArcGIS Earth
ArcGIS Pro
Service Description: USGS Imagery Only is a tile cache base map service of orthoimagery in The National Map visible to the 1:9,028 zoom scale. Orthoimagery data are typically high resolution aerial images that combine the visual attributes of an aerial photograph with the spatial accuracy and reliability of a planimetric map. USGS digital orthoimage resolution may vary from 6 inches to 1 meter. In the former resolution, every pixel in an orthoimage covers a six inch square of the earth's surface, while in the latter resolution, one meter square is represented by each pixel. Blue Marble: Next Generation and Landsat imagery data sources are displayed at small to medium scales, however, the majority of the imagery service source is from the National Agriculture Imagery Program (NAIP) for the conterminous United States. The data is 1 meter pixel resolution collected with 'leaf-on' conditions. Collection of NAIP imagery is administered by the U.S. Department of Agriculture's Farm Service Agency (FSA). In areas where NAIP data is not available, other imagery may be acquired through partnerships by the USGS. For Alaska, 10-meter resolution SPOT imagery is provided for viewing. The National Map download client allows free downloads of public domain, 1-meter resolution orthoimagery in JPEG 2000 (jp2) format for the conterminous United States. However, the 10-meter Alaska orthoimagery data will not be available for direct download from the National Map due to license restrictions. For additional information on orthoimagery, go to https://nationalmap.gov/ortho.html.NAIP Data is from 2017-2021 for CONUS, 2013 and 2020 for HI and AK respectively, PR - 2018, and 2012-2013 for the Territories.
Map Name: USGSImageryOnly
Legend
All Layers and Tables
Layers:
Description: USGS Imagery Only is a tile cache base map service of orthoimagery in The National Map visible to the 1:9,028 zoom scale. Orthoimagery data are typically high resolution aerial images that combine the visual attributes of an aerial photograph with the spatial accuracy and reliability of a planimetric map. USGS digital orthoimage resolution may vary from 6 inches to 1 meter. In the former resolution, every pixel in an orthoimage covers a six inch square of the earth's surface, while in the latter resolution, one meter square is represented by each pixel. Blue Marble: Next Generation and Landsat imagery data sources are displayed at small to medium scales, however, the majority of the imagery service source is from the National Agriculture Imagery Program (NAIP) for the conterminous United States. The data is 1 meter pixel resolution collected with 'leaf-on' conditions. Collection of NAIP imagery is administered by the U.S. Department of Agriculture's Farm Service Agency (FSA). In areas where NAIP data is not available, other imagery may be acquired through partnerships by the USGS. For Alaska, 10-meter resolution SPOT imagery is provided for viewing. The National Map download client allows free downloads of public domain, 1-meter resolution orthoimagery in JPEG 2000 (jp2) format for the conterminous United States. However, the 10-meter Alaska orthoimagery data will not be available for direct download from the National Map due to license restrictions. For additional information on orthoimagery, go to https://nationalmap.gov/ortho.html.NAIP Data is from 2017-2021 for CONUS, 2013 and 2020 for HI and AK respectively, PR - 2018, and 2012-2013 for the Territories.
Copyright Text: USDA, USGS The National Map: Orthoimagery. Data refreshed June, 2024.v1.2
Spatial Reference:
102100
(3857)
LatestVCSWkid(0)
Single Fused Map Cache: true
Tile Info:
- Height: 256.0
- Width: 256.0
- DPI: 96.0
-
Levels of Detail: 24
-
Level ID: 0
[ Start Tile, End Tile ]
- Resolution: 156543.03392800014
- Scale: 5.91657527591555E8
-
Level ID: 1
[ Start Tile, End Tile ]
- Resolution: 78271.51696399994
- Scale: 2.95828763795777E8
-
Level ID: 2
[ Start Tile, End Tile ]
- Resolution: 39135.75848200009
- Scale: 1.47914381897889E8
-
Level ID: 3
[ Start Tile, End Tile ]
- Resolution: 19567.87924099992
- Scale: 7.3957190948944E7
-
Level ID: 4
[ Start Tile, End Tile ]
- Resolution: 9783.93962049996
- Scale: 3.6978595474472E7
-
Level ID: 5
[ Start Tile, End Tile ]
- Resolution: 4891.96981024998
- Scale: 1.8489297737236E7
- Format: MIXED
- Compression Quality: 85.0
- Origin: X: -2.0037508342787E7
Y: 2.0037508342787E7
- Spatial Reference: 102100
(3857)
LatestVCSWkid(0)
Storage Info:
- Storage Format: esriMapCacheStorageModeCompactV2
- Packet Size: 128
Initial Extent:
XMin: -1.71993289116186E7
YMin: 915295.3915341836
XMax: -2215639.768149578
YMax: 8513407.262158547
Spatial Reference: 102100
(3857)
LatestVCSWkid(0)
Full Extent:
XMin: -2.003750785759102E7
YMin: -3.024245526192411E7
XMax: 2.003872561259901E7
YMax: 3.0240971955423884E7
Spatial Reference: 102100
(3857)
LatestVCSWkid(0)
Units: esriMeters
Supported Image Format Types: PNG32,PNG24,PNG,JPG,DIB,TIFF,EMF,PS,PDF,GIF,SVG,SVGZ,BMP
Document Info:
Title: USGSImageryOnly
Author:
Comments: USGS Imagery Only is a tile cache base map service of orthoimagery in The National Map visible to the 1:9,027 zoom scale. Orthoimagery data typically are high resolution aerial images that combine the visual attributes of an aerial photograph with the spatial accuracy and reliability of a planimetric map. USGS digital orthoimage resolution may vary from 6 inches to 1 meter. In the former resolution, every pixel in an orthoimage covers a six inch square of the earth's surface, while in the latter resolution, one meter square is represented by each pixel. Blue Marble: Next Generation and Landsat imagery data sources are displayed at small to medium scales, however, the majority of the imagery service source is from the National Agriculture Imagery Program (NAIP) for the conterminous United States. The data is 1 meter pixel resolution collected with "leaf-on" conditions. Collection of NAIP imagery is administered by the U.S. Department of Agriculture's Farm Service Agency (FSA). In areas where NAIP data is not available, other imagery may be acquired through partnerships by the USGS. For Alaska, 10-meter resolution SPOT imagery is provided for viewing. The National Map download client allows free downloads of public domain, 1-meter resolution orthoimagery in JPEG 2000 (jp2) format for the conterminous United States, including some locations at 1-foot (or better) resolution also in JPEG 2000 (jp2) format. However, the 10-meter Alaska orthoimagery data will not be available for direct download from the National Map due to license restrictions. For additional information on orthoimagery, go to https://nationalmap.gov/ortho.html.
Subject: USGS Imagery Only is a tile cache base map of orthoimagery in The National Map visible to the 1:18,000 scale. Orthoimagery data are typically high resolution images that combine the visual attributes of an aerial photograph with the spatial accuracy.
Category:
Keywords: NAIP,Ortho,Imagery,ImageryOnly
AntialiasingMode: Fast
TextAntialiasingMode: Force
Supports Dynamic Layers: false
MaxRecordCount: 1000
MaxImageHeight: 4096
MaxImageWidth: 4096
Supported Query Formats: JSON, geoJSON, PBF
Supports Query Data Elements: true
Min Scale: 2.95828763795777E8
Max Scale: 9027.977411
Supports Datum Transformation: true
Child Resources:
Info
Supported Operations:
Export Map
Identify
QueryLegends
QueryDomains
Find
EstimateExportTilesSize
ExportTiles
Return Updates