View In:
ArcGIS JavaScript
ArcGIS Online Map Viewer
ArcGIS Earth
ArcGIS Pro
Service Description: The USGS Shaded Relief base map service from The National Map was created with data from the 3D Elevation Program (3DEP) for large and medium scales (1:9,028 through 1:1,155,581), and Global Multi-resolution Terrain Elevation Data 2010 (GMTED2010) for small scales (1:2,311,162 through 1:295,828,764). 3DEP maintains a seamless dataset of best available raster elevation data, as LIDAR and as digital elevation models (DEMs), for the conterminous United States, Alaska, Hawaii, and Territorial Islands. Resolutions available include 1-meter, 3-meter (1/9-arc-second), 10-meter (1/3-arc-second), 30-meter (1-arc-second), and 60-meter (2-arc-second; only in Alaska). 3DEP also contains coverage of Canada, Mexico, Central America, and the Caribbean at 30-meter (1-arc-second) resolution. 3DEP shaded relief was derived with a multi-directional hillshade technique. Small-scale shaded relief was created with a single-direction hillshade from GMTED2010 global elevation data at 7.5-, 15-, and 30-arc-second resolutions, and resampled further for scales 1:18,489,298 and smaller. Ocean areas are left unfilled for maximum flexibility by end users. For additional information, go to https://www.usgs.gov/core-science-systems/ngp/3dep , https://www.usgs.gov/core-science-systems/eros/coastal-changes-and-impacts , and https://apps.nationalmap.gov/3depdem/
Map Name: USGSShadedReliefOnly
Legend
All Layers and Tables
Layers:
Description: The USGS Shaded Relief base map service from The National Map was created with data from the 3D Elevation Program (3DEP) for large and medium scales (1:9,028 through 1:1,155,581), and Global Multi-resolution Terrain Elevation Data 2010 (GMTED2010) for small scales (1:2,311,162 through 1:295,828,764). 3DEP maintains a seamless dataset of best available raster elevation data, as LIDAR and as digital elevation models (DEMs), for the conterminous United States, Alaska, Hawaii, and Territorial Islands. Resolutions available include 1-meter, 3-meter (1/9-arc-second), 10-meter (1/3-arc-second), 30-meter (1-arc-second), and 60-meter (2-arc-second; only in Alaska). 3DEP also contains coverage of Canada, Mexico, Central America, and the Caribbean at 30-meter (1-arc-second) resolution. 3DEP shaded relief was derived with a multi-directional hillshade technique. Small-scale shaded relief was created with a single-direction hillshade from GMTED2010 global elevation data at 7.5-, 15-, and 30-arc-second resolutions, and resampled further for scales 1:18,489,298 and smaller. Ocean areas are left unfilled for maximum flexibility by end users. For additional information, go to https://www.usgs.gov/core-science-systems/ngp/3dep , https://www.usgs.gov/core-science-systems/eros/coastal-changes-and-impacts , and https://apps.nationalmap.gov/3depdem/
Copyright Text: USGS The National Map: 3D Elevation Program. USGS Earth Resources Observation & Science (EROS) Center: GMTED2010. Data refreshed April, 2025.v1.2.
Spatial Reference:
102100
(3857)
LatestVCSWkid(0)
Single Fused Map Cache: true
Tile Info:
- Height: 256.0
- Width: 256.0
- DPI: 96.0
-
Levels of Detail: 24
-
Level ID: 0
[ Start Tile, End Tile ]
- Resolution: 156543.03392800014
- Scale: 5.91657527591555E8
-
Level ID: 1
[ Start Tile, End Tile ]
- Resolution: 78271.51696399994
- Scale: 2.95828763795777E8
-
Level ID: 2
[ Start Tile, End Tile ]
- Resolution: 39135.75848200009
- Scale: 1.47914381897889E8
-
Level ID: 3
[ Start Tile, End Tile ]
- Resolution: 19567.87924099992
- Scale: 7.3957190948944E7
-
Level ID: 4
[ Start Tile, End Tile ]
- Resolution: 9783.93962049996
- Scale: 3.6978595474472E7
-
Level ID: 5
[ Start Tile, End Tile ]
- Resolution: 4891.96981024998
- Scale: 1.8489297737236E7
- Format: MIXED
- Compression Quality: 85.0
- Origin: X: -2.0037508342787E7
Y: 2.0037508342787E7
- Spatial Reference: 102100
(3857)
LatestVCSWkid(0)
Storage Info:
- Storage Format: esriMapCacheStorageModeCompactV2
- Packet Size: 128
Initial Extent:
XMin: -1.5488686379591277E7
YMin: 1945802.8915445125
XMax: -3932719.1975298543
YMax: 7618585.100665701
Spatial Reference: 102100
(0)
LatestVCSWkid(0)
Full Extent:
XMin: -2.00375070738129E7
YMin: -2.671293453885978E7
XMax: 2.0037750667261E7
YMax: 1.880706619151872E7
Spatial Reference: 102100
(0)
LatestVCSWkid(0)
Units: esriMeters
Supported Image Format Types: PNG32,PNG24,PNG,JPG,DIB,TIFF,EMF,PS,PDF,GIF,SVG,SVGZ,BMP
Document Info:
Title: Map
Author:
Comments:
Subject:
Category:
Keywords: a-16,ngda,elevation,3DEP,digital elevation model,DEM,shaded relief,hillshade,resolution,arc-second,United States,US,NGP-TNM,REST,WMS,WMTS
AntialiasingMode: Fast
TextAntialiasingMode: Force
Supports Dynamic Layers: false
MaxRecordCount: 1000
MaxImageHeight: 4096
MaxImageWidth: 4096
Supported Query Formats: JSON, geoJSON, PBF
Supports Query Data Elements: true
Min Scale: 2.95828763795777E8
Max Scale: 4622324.434309
Supports Datum Transformation: true
Child Resources:
Info
Supported Operations:
Export Map
Identify
QueryLegends
QueryDomains
Find
EstimateExportTilesSize
ExportTiles
Return Updates